BEGIN:VCALENDAR
VERSION:2.0
PRODID:-//HOUSE OF REVIVAL - ECPv6.15.20//NONSGML v1.0//EN
CALSCALE:GREGORIAN
METHOD:PUBLISH
X-WR-CALNAME:HOUSE OF REVIVAL
X-ORIGINAL-URL:https://houseofrevivalglobal.com
X-WR-CALDESC:Events for HOUSE OF REVIVAL
REFRESH-INTERVAL;VALUE=DURATION:PT1H
X-Robots-Tag:noindex
X-PUBLISHED-TTL:PT1H
BEGIN:VTIMEZONE
TZID:UTC
BEGIN:STANDARD
TZOFFSETFROM:+0000
TZOFFSETTO:+0000
TZNAME:UTC
DTSTART:20230101T000000
END:STANDARD
END:VTIMEZONE
BEGIN:VEVENT
DTSTART;TZID=UTC:20251130T090000
DTEND;TZID=UTC:20251130T140000
DTSTAMP:20260419T134010
CREATED:20251115T023127Z
LAST-MODIFIED:20251115T023130Z
UID:2702-1764493200-1764511200@houseofrevivalglobal.com
SUMMARY:Global family and finanace Sunday
DESCRIPTION:
URL:https://houseofrevivalglobal.com/event/global-family-and-finanace-sunday/
ATTACH;FMTTYPE=image/jpeg:https://houseofrevivalglobal.com/wp-content/uploads/2025/11/IMG-20251115-WA0007.jpg
END:VEVENT
BEGIN:VEVENT
DTSTART;TZID=UTC:20251116T120000
DTEND;TZID=UTC:20251116T150000
DTSTAMP:20260419T134010
CREATED:20251115T022936Z
LAST-MODIFIED:20251115T022940Z
UID:2700-1763294400-1763305200@houseofrevivalglobal.com
SUMMARY:When singles pray
DESCRIPTION:
URL:https://houseofrevivalglobal.com/event/when-singles-pray-2/
ATTACH;FMTTYPE=image/jpeg:https://houseofrevivalglobal.com/wp-content/uploads/2025/11/IMG-20251115-WA0006.jpg
END:VEVENT
BEGIN:VEVENT
DTSTART;TZID=UTC:20251115T200000
DTEND;TZID=UTC:20251115T213000
DTSTAMP:20260419T134010
CREATED:20251115T022713Z
LAST-MODIFIED:20251115T022718Z
UID:2692-1763236800-1763242200@houseofrevivalglobal.com
SUMMARY:Truths i really want couples to know
DESCRIPTION:
URL:https://houseofrevivalglobal.com/event/truths-i-really-want-couples-to-know/
ATTACH;FMTTYPE=image/jpeg:https://houseofrevivalglobal.com/wp-content/uploads/2025/11/IMG-20251115-WA0005.jpg
END:VEVENT
BEGIN:VEVENT
DTSTART;TZID=UTC:20251109T120000
DTEND;TZID=UTC:20251109T140000
DTSTAMP:20260419T134010
CREATED:20251115T023317Z
LAST-MODIFIED:20251115T023320Z
UID:2704-1762689600-1762696800@houseofrevivalglobal.com
SUMMARY:Building Quality Relationship
DESCRIPTION:
URL:https://houseofrevivalglobal.com/event/building-quality-relationship/
ATTACH;FMTTYPE=image/jpeg:https://houseofrevivalglobal.com/wp-content/uploads/2025/11/IMG-20251115-WA0003.jpg
END:VEVENT
BEGIN:VEVENT
DTSTART;TZID=UTC:20251026T080000
DTEND;TZID=UTC:20251026T143000
DTSTAMP:20260419T134010
CREATED:20251007T091457Z
LAST-MODIFIED:20251007T091459Z
UID:2685-1761465600-1761489000@houseofrevivalglobal.com
SUMMARY:Winning Strategy for family and finance
DESCRIPTION:
URL:https://houseofrevivalglobal.com/event/winning-strategy-for-family-and-finance/
ATTACH;FMTTYPE=image/jpeg:https://houseofrevivalglobal.com/wp-content/uploads/2025/10/WhatsApp-Image-2025-10-06-at-15.09.52_f2ad0e86.jpg
END:VEVENT
BEGIN:VEVENT
DTSTART;TZID=UTC:20251018T110000
DTEND;TZID=UTC:20251018T140000
DTSTAMP:20260419T134010
CREATED:20251007T092005Z
LAST-MODIFIED:20251007T092007Z
UID:2689-1760785200-1760796000@houseofrevivalglobal.com
SUMMARY:Understanding Purpose and Marriage
DESCRIPTION:
URL:https://houseofrevivalglobal.com/event/understanding-purpose-and-marriage/
ATTACH;FMTTYPE=image/jpeg:https://houseofrevivalglobal.com/wp-content/uploads/2025/10/WhatsApp-Image-2025-10-06-at-15.16.24_28d0b02f.jpg
END:VEVENT
BEGIN:VEVENT
DTSTART;TZID=UTC:20251012T120000
DTEND;TZID=UTC:20251012T153000
DTSTAMP:20260419T134010
CREATED:20251007T091726Z
LAST-MODIFIED:20251007T091729Z
UID:2687-1760270400-1760283000@houseofrevivalglobal.com
SUMMARY:Coming Out Of Emotional Pain and Struggle
DESCRIPTION:
URL:https://houseofrevivalglobal.com/event/coming-out-of-emotional-pain-and-struggle/
ATTACH;FMTTYPE=image/jpeg:https://houseofrevivalglobal.com/wp-content/uploads/2025/10/WhatsApp-Image-2025-10-06-at-15.09.52_5aa648c5.jpg
END:VEVENT
BEGIN:VEVENT
DTSTART;TZID=UTC:20251003T180000
DTEND;TZID=UTC:20251005T190000
DTSTAMP:20260419T134010
CREATED:20250906T220613Z
LAST-MODIFIED:20250906T220942Z
UID:2674-1759514400-1759690800@houseofrevivalglobal.com
SUMMARY:MERCY CRY
DESCRIPTION:
URL:https://houseofrevivalglobal.com/event/mercy-cry/
ATTACH;FMTTYPE=image/jpeg:https://houseofrevivalglobal.com/wp-content/uploads/2025/09/IMG-20250906-WA0008.jpg
END:VEVENT
BEGIN:VEVENT
DTSTART;TZID=UTC:20250921T120000
DTEND;TZID=UTC:20250921T170000
DTSTAMP:20260419T134010
CREATED:20250906T220816Z
LAST-MODIFIED:20250906T220830Z
UID:2676-1758456000-1758474000@houseofrevivalglobal.com
SUMMARY:Shedding off NORMS OR MINDSETS
DESCRIPTION:
URL:https://houseofrevivalglobal.com/event/shedding-off-norms-or-mindsets/
ATTACH;FMTTYPE=image/jpeg:https://houseofrevivalglobal.com/wp-content/uploads/2025/09/IMG-20250906-WA0011.jpg
END:VEVENT
BEGIN:VEVENT
DTSTART;TZID=UTC:20250831T090000
DTEND;TZID=UTC:20250831T140000
DTSTAMP:20260419T134010
CREATED:20250803T004534Z
LAST-MODIFIED:20250803T004538Z
UID:2644-1756630800-1756648800@houseofrevivalglobal.com
SUMMARY:Vision Casting
DESCRIPTION:
URL:https://houseofrevivalglobal.com/event/vision-casting/
ATTACH;FMTTYPE=image/jpeg:https://houseofrevivalglobal.com/wp-content/uploads/2025/08/IMG-20250803-WA0007.jpg
END:VEVENT
BEGIN:VEVENT
DTSTART;TZID=UTC:20250817T120000
DTEND;TZID=UTC:20250817T140000
DTSTAMP:20260419T134010
CREATED:20250803T004714Z
LAST-MODIFIED:20250803T004716Z
UID:2646-1755432000-1755439200@houseofrevivalglobal.com
SUMMARY:Becoming a Marriageable Person
DESCRIPTION:
URL:https://houseofrevivalglobal.com/event/becoming-a-marriageable-person/
ATTACH;FMTTYPE=image/jpeg:https://houseofrevivalglobal.com/wp-content/uploads/2025/08/IMG-20250803-WA0001.jpg
END:VEVENT
BEGIN:VEVENT
DTSTART;TZID=UTC:20250810T123000
DTEND;TZID=UTC:20250810T140000
DTSTAMP:20260419T134010
CREATED:20250803T004903Z
LAST-MODIFIED:20250803T004907Z
UID:2648-1754829000-1754834400@houseofrevivalglobal.com
SUMMARY:Men Cave
DESCRIPTION:
URL:https://houseofrevivalglobal.com/event/men-cave/
ATTACH;FMTTYPE=image/jpeg:https://houseofrevivalglobal.com/wp-content/uploads/2025/08/IMG-20250803-WA0002.jpg
END:VEVENT
BEGIN:VEVENT
DTSTART;TZID=UTC:20250809T200000
DTEND;TZID=UTC:20250809T220000
DTSTAMP:20260419T134010
CREATED:20250803T004213Z
LAST-MODIFIED:20250803T004216Z
UID:2642-1754769600-1754776800@houseofrevivalglobal.com
SUMMARY:Intertwine
DESCRIPTION:
URL:https://houseofrevivalglobal.com/event/intertwine/
ATTACH;FMTTYPE=image/jpeg:https://houseofrevivalglobal.com/wp-content/uploads/2025/08/IMG-20250803-WA0006.jpg
END:VEVENT
BEGIN:VEVENT
DTSTART;TZID=UTC:20250808T220000
DTEND;TZID=UTC:20250809T040000
DTSTAMP:20260419T134010
CREATED:20250803T005047Z
LAST-MODIFIED:20250803T005049Z
UID:2650-1754690400-1754712000@houseofrevivalglobal.com
SUMMARY:Glory and Might
DESCRIPTION:
URL:https://houseofrevivalglobal.com/event/glory-and-might/
ATTACH;FMTTYPE=image/jpeg:https://houseofrevivalglobal.com/wp-content/uploads/2025/08/IMG-20250803-WA0004.jpg
END:VEVENT
BEGIN:VEVENT
DTSTART;TZID=UTC:20250705T080000
DTEND;TZID=UTC:20250705T113000
DTSTAMP:20260419T134010
CREATED:20250714T203446Z
LAST-MODIFIED:20250714T203449Z
UID:2623-1751702400-1751715000@houseofrevivalglobal.com
SUMMARY:Couple Online Seminar : New Wine
DESCRIPTION:
URL:https://houseofrevivalglobal.com/event/couple-online-seminar-new-wine/
ATTACH;FMTTYPE=image/jpeg:https://houseofrevivalglobal.com/wp-content/uploads/2025/07/IMG-20250714-WA0035.jpg
END:VEVENT
BEGIN:VEVENT
DTSTART;TZID=UTC:20250624T200000
DTEND;TZID=UTC:20250624T220000
DTSTAMP:20260419T134010
CREATED:20250608T002754Z
LAST-MODIFIED:20250608T002756Z
UID:2614-1750795200-1750802400@houseofrevivalglobal.com
SUMMARY:Couples Online Seminar
DESCRIPTION:
URL:https://houseofrevivalglobal.com/event/couples-online-seminar/
ATTACH;FMTTYPE=image/jpeg:https://houseofrevivalglobal.com/wp-content/uploads/2025/06/IMG-20250608-WA0011.jpg
END:VEVENT
BEGIN:VEVENT
DTSTART;TZID=UTC:20250614T200000
DTEND;TZID=UTC:20250614T220000
DTSTAMP:20260419T134010
CREATED:20250608T002447Z
LAST-MODIFIED:20250608T002449Z
UID:2612-1749931200-1749938400@houseofrevivalglobal.com
SUMMARY:Mastering Stress Management - Online
DESCRIPTION:
URL:https://houseofrevivalglobal.com/event/mastering-stress-management-online/
LOCATION:The Revival Tent\, 30\,Ondo Street\, Irawo Bus/Stop\, Ikorudu Road\, Lagos\, Lagos\, Nigeria
ATTACH;FMTTYPE=image/jpeg:https://houseofrevivalglobal.com/wp-content/uploads/2025/06/IMG-20250608-WA0016.jpg
END:VEVENT
BEGIN:VEVENT
DTSTART;TZID=UTC:20250601T183000
DTEND;TZID=UTC:20250731T183000
DTSTAMP:20260419T134010
CREATED:20250608T003223Z
LAST-MODIFIED:20250608T003228Z
UID:2616-1748802600-1753986600@houseofrevivalglobal.com
SUMMARY:Every Wednesday in June - Crushing Bad Past
DESCRIPTION:
URL:https://houseofrevivalglobal.com/event/every-wednesday-in-june-crushing-bad-past/
ATTACH;FMTTYPE=image/jpeg:https://houseofrevivalglobal.com/wp-content/uploads/2025/06/IMG-20250608-WA0013.jpg
END:VEVENT
BEGIN:VEVENT
DTSTART;TZID=UTC:20250601T140000
DTEND;TZID=UTC:20250731T170000
DTSTAMP:20260419T134010
CREATED:20250608T003405Z
LAST-MODIFIED:20250608T003408Z
UID:2618-1748786400-1753981200@houseofrevivalglobal.com
SUMMARY:Every Sunday - Afternoon Church
DESCRIPTION:
URL:https://houseofrevivalglobal.com/event/every-sunday-afternoon-church/
END:VEVENT
BEGIN:VEVENT
DTSTART;TZID=UTC:20250525T080000
DTEND;TZID=UTC:20250525T140000
DTSTAMP:20260419T134010
CREATED:20250520T172104Z
LAST-MODIFIED:20250520T172118Z
UID:2599-1748160000-1748181600@houseofrevivalglobal.com
SUMMARY:Love\, Legacy\, Ledger
DESCRIPTION:
URL:https://houseofrevivalglobal.com/event/love-legacy-ledger/
LOCATION:The Revival Tent\, 30\,Ondo Street\, Irawo Bus/Stop\, Ikorudu Road\, Lagos\, Lagos\, Nigeria
ATTACH;FMTTYPE=image/jpeg:https://houseofrevivalglobal.com/wp-content/uploads/2025/05/IMG-20250520-WA0012.jpg
END:VEVENT
BEGIN:VEVENT
DTSTART;TZID=UTC:20250521T080000
DTEND;TZID=UTC:20250630T170000
DTSTAMP:20260419T134010
CREATED:20250520T172303Z
LAST-MODIFIED:20250520T172305Z
UID:2602-1747814400-1751302800@houseofrevivalglobal.com
SUMMARY:Finding Peace
DESCRIPTION:Every Wednesday
URL:https://houseofrevivalglobal.com/event/finding-peace/
ATTACH;FMTTYPE=image/jpeg:https://houseofrevivalglobal.com/wp-content/uploads/2025/05/IMG-20250520-WA0004.jpg
END:VEVENT
BEGIN:VEVENT
DTSTART;TZID=UTC:20250418T100000
DTEND;TZID=UTC:20250420T150000
DTSTAMP:20260419T134010
CREATED:20250322T140333Z
LAST-MODIFIED:20250322T140334Z
UID:2453-1744970400-1745161200@houseofrevivalglobal.com
SUMMARY:Thoroughly Furnished
DESCRIPTION:
URL:https://houseofrevivalglobal.com/event/thoroughly-furnished/
ATTACH;FMTTYPE=image/jpeg:https://houseofrevivalglobal.com/wp-content/uploads/2025/03/IMG-20250302-WA0010.jpg
END:VEVENT
BEGIN:VEVENT
DTSTART;TZID=UTC:20250331T080000
DTEND;TZID=UTC:20250331T170000
DTSTAMP:20260419T134010
CREATED:20250322T133940Z
LAST-MODIFIED:20250322T133941Z
UID:2449-1743408000-1743440400@houseofrevivalglobal.com
SUMMARY:TRUTH - Deeper things of God
DESCRIPTION:All Sundays in March
URL:https://houseofrevivalglobal.com/event/truth-deeper-things-of-god/
LOCATION:The Revival Tent\, 30\,Ondo Street\, Irawo Bus/Stop\, Ikorudu Road\, Lagos\, Lagos\, Nigeria
ATTACH;FMTTYPE=image/jpeg:https://houseofrevivalglobal.com/wp-content/uploads/2025/03/IMG-20250302-WA0008.jpg
END:VEVENT
BEGIN:VEVENT
DTSTART;TZID=UTC:20250316T080000
DTEND;TZID=UTC:20250316T170000
DTSTAMP:20260419T134010
CREATED:20250322T140139Z
LAST-MODIFIED:20250322T140140Z
UID:2451-1742112000-1742144400@houseofrevivalglobal.com
SUMMARY:When Singles Pray
DESCRIPTION:
URL:https://houseofrevivalglobal.com/event/when-singles-pray/
ATTACH;FMTTYPE=image/jpeg:https://houseofrevivalglobal.com/wp-content/uploads/2025/03/IMG-20250308-WA0028.jpg
END:VEVENT
BEGIN:VEVENT
DTSTART;TZID=UTC:20250223T080000
DTEND;TZID=UTC:20250223T143000
DTSTAMP:20260419T134010
CREATED:20250322T133705Z
LAST-MODIFIED:20250322T133706Z
UID:2447-1740297600-1740321000@houseofrevivalglobal.com
SUMMARY:How Men and Woman Think
DESCRIPTION:With Pst. Biodun & Pst. Mrs Racheal Ajibola
URL:https://houseofrevivalglobal.com/event/how-men-and-woman-think/
LOCATION:The Revival Tent\, 30\,Ondo Street\, Irawo Bus/Stop\, Ikorudu Road\, Lagos\, Lagos\, Nigeria
ATTACH;FMTTYPE=image/jpeg:https://houseofrevivalglobal.com/wp-content/uploads/2025/03/IMG-20250222-WA0000.jpg
END:VEVENT
BEGIN:VEVENT
DTSTART;TZID=UTC:20241225T090000
DTEND;TZID=UTC:20241225T160000
DTSTAMP:20260419T134010
CREATED:20241220T142011Z
LAST-MODIFIED:20241220T142013Z
UID:2423-1735117200-1735142400@houseofrevivalglobal.com
SUMMARY:Full Stature
DESCRIPTION:
URL:https://houseofrevivalglobal.com/event/full-stature/
LOCATION:The Revival Tent\, 30\,Ondo Street\, Irawo Bus/Stop\, Ikorudu Road\, Lagos\, Lagos\, Nigeria
ATTACH;FMTTYPE=image/jpeg:https://houseofrevivalglobal.com/wp-content/uploads/2024/12/IMG-20241216-WA0065.jpg
END:VEVENT
BEGIN:VEVENT
DTSTART;TZID=UTC:20241220T210000
DTEND;TZID=UTC:20241220T233000
DTSTAMP:20260419T134010
CREATED:20241220T142517Z
LAST-MODIFIED:20241220T142518Z
UID:2428-1734728400-1734737400@houseofrevivalglobal.com
SUMMARY:David's Dance
DESCRIPTION:
URL:https://houseofrevivalglobal.com/event/davids-dance/
LOCATION:The Revival Tent\, 30\,Ondo Street\, Irawo Bus/Stop\, Ikorudu Road\, Lagos\, Lagos\, Nigeria
ATTACH;FMTTYPE=image/jpeg:https://houseofrevivalglobal.com/wp-content/uploads/2024/12/IMG-20241216-WA0062.jpg
END:VEVENT
BEGIN:VEVENT
DTSTART;TZID=UTC:20241130T080000
DTEND;TZID=UTC:20241130T170000
DTSTAMP:20260419T134010
CREATED:20241102T160354Z
LAST-MODIFIED:20241102T160355Z
UID:2414-1732953600-1732986000@houseofrevivalglobal.com
SUMMARY:The Merciful God
DESCRIPTION:Join us for  powerful mornings of prayer\, fellowship\, and spiritual growth. As Christians\, we’ll come together to seek God’s guidance\, wisdom\, and blessing in our lives. Experience the transformative power of collective prayer\, encouragement\, and community.
URL:https://houseofrevivalglobal.com/event/the-merciful-god/
ATTACH;FMTTYPE=image/jpeg:https://houseofrevivalglobal.com/wp-content/uploads/2024/11/photo_8_2024-11-02_16-06-42.jpg
END:VEVENT
BEGIN:VEVENT
DTSTART;TZID=UTC:20241130T080000
DTEND;TZID=UTC:20241130T170000
DTSTAMP:20260419T134010
CREATED:20241102T160201Z
LAST-MODIFIED:20241102T160213Z
UID:2412-1732953600-1732986000@houseofrevivalglobal.com
SUMMARY:Why should I Wait?
DESCRIPTION:Join us for a powerful morning of prayer\, fellowship\, and spiritual growth. As Christians\, we’ll come together to seek God’s guidance\, wisdom\, and blessing in our lives. Experience the transformative power of collective prayer\, encouragement\, and community.
URL:https://houseofrevivalglobal.com/event/why-should-i-wait/
ATTACH;FMTTYPE=image/jpeg:https://houseofrevivalglobal.com/wp-content/uploads/2024/11/photo_10_2024-11-02_16-06-42.jpg
END:VEVENT
BEGIN:VEVENT
DTSTART;TZID=UTC:20241115T220000
DTEND;TZID=UTC:20241116T050000
DTSTAMP:20260419T134010
CREATED:20241102T155259Z
LAST-MODIFIED:20241102T155301Z
UID:2408-1731708000-1731733200@houseofrevivalglobal.com
SUMMARY:With a Grateful Heart
DESCRIPTION:Join us for ‘Owode praise night’\, a powerful evening of prayer\, fellowship\, and spiritual growth. As Christians\, we’ll come together to seek God’s guidance\, wisdom\, and blessing in our lives. Experience the transformative power of collective prayer\, encouragement\, and community.
URL:https://houseofrevivalglobal.com/event/with-a-grateful-heart/
ATTACH;FMTTYPE=image/jpeg:https://houseofrevivalglobal.com/wp-content/uploads/2024/05/photo_2_2024-11-02_16-06-42.jpg
END:VEVENT
END:VCALENDAR